BEGIN:VCALENDAR
VERSION:2.0
PRODID:-//Discover The Lost Sierra - ECPv6.15.20//NONSGML v1.0//EN
CALSCALE:GREGORIAN
METHOD:PUBLISH
X-WR-CALNAME:Discover The Lost Sierra
X-ORIGINAL-URL:https://discoverthelostsierra.com
X-WR-CALDESC:Events for Discover The Lost Sierra
REFRESH-INTERVAL;VALUE=DURATION:PT1H
X-Robots-Tag:noindex
X-PUBLISHED-TTL:PT1H
BEGIN:VTIMEZONE
TZID:UTC
BEGIN:STANDARD
TZOFFSETFROM:+0000
TZOFFSETTO:+0000
TZNAME:UTC
DTSTART:20230101T000000
END:STANDARD
END:VTIMEZONE
BEGIN:VEVENT
DTSTART;TZID=UTC:20241213T170000
DTEND;TZID=UTC:20241213T200000
DTSTAMP:20260423T132321
CREATED:20240529T214257Z
LAST-MODIFIED:20240529T214257Z
UID:2967-1734109200-1734120000@discoverthelostsierra.com
SUMMARY:Santa Trains
DESCRIPTION:Enjoy a magical trip aboard the Santa Train – covered in lights and decorations. Admission: $10 per carload or $5 + 3 cans of non-perishable food. Food donations benefit EPCAN Food Bank. Visit with Santa and Mrs. Claus! Shop the Museum Store! Enjoy complimentary cookies\, hot chocolate\, cider and coffee. Donations welcome! \nDates: December 7\, 13\, 14\, 20 & 21\, 2024. \nTrain Rides 5-8 PM. Gates Open at 4 pm. Call 530-832-4131 or visit santa.wplives.org  for more information.
URL:https://discoverthelostsierra.com/event/santa-trains-2/
ATTACH;FMTTYPE=image/jpeg:https://discoverthelostsierra.com/wp-content/uploads/2024/05/Santa-Trains.jpg
END:VEVENT
END:VCALENDAR