BEGIN:VCALENDAR
VERSION:2.0
PRODID:-//Discover The Lost Sierra - ECPv6.15.20//NONSGML v1.0//EN
CALSCALE:GREGORIAN
METHOD:PUBLISH
X-WR-CALNAME:Discover The Lost Sierra
X-ORIGINAL-URL:https://discoverthelostsierra.com
X-WR-CALDESC:Events for Discover The Lost Sierra
REFRESH-INTERVAL;VALUE=DURATION:PT1H
X-Robots-Tag:noindex
X-PUBLISHED-TTL:PT1H
BEGIN:VTIMEZONE
TZID:UTC
BEGIN:STANDARD
TZOFFSETFROM:+0000
TZOFFSETTO:+0000
TZNAME:UTC
DTSTART:20230101T000000
END:STANDARD
END:VTIMEZONE
BEGIN:VEVENT
DTSTART;TZID=UTC:20240928T110000
DTEND;TZID=UTC:20240928T170000
DTSTAMP:20260419T141003
CREATED:20240118T000710Z
LAST-MODIFIED:20240118T000851Z
UID:2701-1727521200-1727542800@discoverthelostsierra.com
SUMMARY:Lost Sierra Railroad Days
DESCRIPTION:
URL:https://discoverthelostsierra.com/event/lost-sierra-railroad-days/
END:VEVENT
BEGIN:VEVENT
DTSTART;TZID=UTC:20240928T190000
DTEND;TZID=UTC:20240928T220000
DTSTAMP:20260419T141003
CREATED:20240619T222012Z
LAST-MODIFIED:20240619T222012Z
UID:2992-1727550000-1727560800@discoverthelostsierra.com
SUMMARY:FreQuincy Concert Series 2024
DESCRIPTION:
URL:https://discoverthelostsierra.com/event/frequincy-concert-series-2024-14/
END:VEVENT
END:VCALENDAR