BEGIN:VCALENDAR
VERSION:2.0
PRODID:-//Discover The Lost Sierra - ECPv6.15.20//NONSGML v1.0//EN
CALSCALE:GREGORIAN
METHOD:PUBLISH
X-WR-CALNAME:Discover The Lost Sierra
X-ORIGINAL-URL:https://discoverthelostsierra.com
X-WR-CALDESC:Events for Discover The Lost Sierra
REFRESH-INTERVAL;VALUE=DURATION:PT1H
X-Robots-Tag:noindex
X-PUBLISHED-TTL:PT1H
BEGIN:VTIMEZONE
TZID:UTC
BEGIN:STANDARD
TZOFFSETFROM:+0000
TZOFFSETTO:+0000
TZNAME:UTC
DTSTART:20230101T000000
END:STANDARD
END:VTIMEZONE
BEGIN:VEVENT
DTSTART;VALUE=DATE:20240630
DTEND;VALUE=DATE:20240701
DTSTAMP:20260425T132812
CREATED:20240208T223308Z
LAST-MODIFIED:20240208T223449Z
UID:2882-1719705600-1719791999@discoverthelostsierra.com
SUMMARY:White Sulfer Springs Summerfest
DESCRIPTION:Join us for a fun outdoor concert in Clio\, CA.
URL:https://discoverthelostsierra.com/event/white-sulfer-springs-summerfest/
END:VEVENT
BEGIN:VEVENT
DTSTART;TZID=UTC:20240630T150000
DTEND;TZID=UTC:20240630T193000
DTSTAMP:20260425T132812
CREATED:20240529T212023Z
LAST-MODIFIED:20240529T212046Z
UID:2954-1719759600-1719775800@discoverthelostsierra.com
SUMMARY:White Sulphur Springs Ranch: SUMMERFEST
DESCRIPTION:White Sulphur Springs Ranch SUMMERFEST is Back!\nThe 14th Annual Outdoor Concert happens Sunday\, June 30\, 3 to 7:30 pm featuring Matt Aston and Badmoon. Enjoy a Western Ranch BBQ (no host bar)\, two auctions (silent and live)\, and and open house . Tickets are available for adults – early bird (May 1- 31) – $65 – (After June 1st) – $70 Includes $15 for meal). Children 12 and under are $20 (Includes $5 for meal). “Bring a Lawn Chair But NOT Your Pets” \nPURCHASE TICKETS ONLINE HERE. \nGet Your Tickets Early\, A Sellout is Expected \nFor more information call: 530-836-2530 \n2200 CA-89 Clio\, CA 96106 \nTickets Available in Graeagle at: \nMillie’s Ice Cream & Coffee Company \n‍ \n\n\n\n\n\nLocation:\nWhite Sulphur Springs Ranch – Hwy 89 Clio
URL:https://discoverthelostsierra.com/event/white-sulphur-springs-ranch-summerfest/
ATTACH;FMTTYPE=image/jpeg:https://discoverthelostsierra.com/wp-content/uploads/2024/05/White-Sulphur-Springs-Ranch-SUMMERFEST.jpeg
END:VEVENT
END:VCALENDAR